BEGIN:VCALENDAR
VERSION:2.0
PRODID:-//Offshore Wind Energy Collaborative - ECPv6.7.0//NONSGML v1.0//EN
CALSCALE:GREGORIAN
METHOD:PUBLISH
X-WR-CALNAME:Offshore Wind Energy Collaborative
X-ORIGINAL-URL:https://osw.rutgers.edu
X-WR-CALDESC:Events for Offshore Wind Energy Collaborative
REFRESH-INTERVAL;VALUE=DURATION:PT1H
X-Robots-Tag:noindex
X-PUBLISHED-TTL:PT1H
BEGIN:VTIMEZONE
TZID:UTC
BEGIN:STANDARD
TZOFFSETFROM:+0000
TZOFFSETTO:+0000
TZNAME:UTC
DTSTART:20240101T000000
END:STANDARD
END:VTIMEZONE
BEGIN:VEVENT
DTSTART;TZID=UTC:20240910T130000
DTEND;TZID=UTC:20240910T140000
DTSTAMP:20260424T023814
CREATED:20240819T080059Z
LAST-MODIFIED:20240819T202407Z
UID:2165-1725973200-1725976800@osw.rutgers.edu
SUMMARY:Webinar: NOWRDC Solicitation 4.0
DESCRIPTION:Join the National Offshore Wind Research and Development Consortium (NOWRDC) for an in-depth informational webinar on September 10\, 2024\, to learn more about NOWRDC’s Solicitation 4.0\, focused on innovative floating offshore wind research and development projects. This webinar will review the solicitation process to help you submit a successful proposal. A recording will be posted on NOWRDC’s website approximately 1 week after the live webinar. \nReview the Solicitation 4.0 Request for Proposals (RFP) and learn more here: https://nationaloffshorewind.org/solicitations/ \nClick here for more information and to register.
URL:https://osw.rutgers.edu/event/webinar-nowrdc-solicitation-4-0/
CATEGORIES:Public Events,Regional/National Events
END:VEVENT
BEGIN:VEVENT
DTSTART;TZID=UTC:20240917T120000
DTEND;TZID=UTC:20240917T132000
DTSTAMP:20260424T023814
CREATED:20240913T080025Z
LAST-MODIFIED:20240913T154738Z
UID:2172-1726574400-1726579200@osw.rutgers.edu
SUMMARY:Seminar - Geologic H2: A New Primary Energy Source for the Transition to Clean Energy?
DESCRIPTION:The Rutgers School of Engineering’s Department of Materials Science and Engineering invites you to join them for their upcoming seminar “Geologic H2: A New Primary Energy Source for the Transition to Clean Energy?” with special guest Dr. Douglas Wicks\, Program Director of the Advanced Research Projects Agency-Energy (ARPA-E). \nThe seminar will be held on Tuesday\, September 17 at 12:00 to 1:20pm at the McLaren Center for Ceramic Research\, 607 Taylor Road\, Room 201\, Piscataway\, NJ 08854. \n \nDr. Douglas Wicks\nProgram Director\nAdvanced Research Projects Agency-Energy (ARPA-E) \nAbstract\nHydrogen is viewed by many as a key component of the transition to clean carbon-free energy. The International Energy Agency forecasts that 520 million tons hydrogen from natural gas + carbon capture (so-called “Blue Hydrogen”) and the electrolysis of water (“Green Hydrogen”) will be needed by 2050 to attain climate targets. This represents a > 5-fold increase from current hydrogen production and use. Both routes have significant challenges – blue hydrogen will have fugitive methane releases and need to store gigatons of CO2\, green hydrogen requires large expenditures for renewable energy and critical minerals. \nMeanwhile\, beneath our feet\, the earth has been continuously generating hydrogen and for the most part mankind did not pay attention to what was right in front of us. This hydrogen is continuously formed by known chemical reactions in the subsurface\, sometimes accumulating into reservoirs\, sometimes being consumed by parasitic reactions and sometimes seeping into the atmosphere. The chemical potential to form hydrogen is huge\, theorized to be in the trillions of tons. Economically harnessing the chemical potential of the earth could be transformational to the US and global economies. \nBiography\nDr. Douglas Wicks currently serves as a Program Director at the Advanced Research Projects Agency-Energy (ARPA‑E). His focus at ARPA-E is on waste-to-energy technologies. Dr. Wicks joins ARPA-E from Imerys\, a French industrial minerals production and processing company\, where he was most recently the Director of Transformational and External Innovation. At Imerys\, he developed an innovation network comprised of academic\, contract research organizations\, start-ups and strategic partners. Before joining Imerys\, Dr. Wicks worked in a variety of roles at several start-up companies focused on innovative materials. Dr. Wicks began his career at Bayer Corporation\, where he ultimately became Vice President of Research for the Coatings and Colorants division. Dr. Wicks earned a B.S. in Chemistry from North Dakota State University and a Ph.D. in Polymer Science and Engineering from the University of Massachusetts Amherst. \n  \nIf you have any questions\, please contact Srishti Kaul Narula at srishti.kaul@rutgers.edu
URL:https://osw.rutgers.edu/event/sept17-geologich2seminar/
CATEGORIES:Public Events,Rutgers University Events
END:VEVENT
BEGIN:VEVENT
DTSTART;VALUE=DATE:20240924
DTEND;VALUE=DATE:20240926
DTSTAMP:20260424T023814
CREATED:20240528T080056Z
LAST-MODIFIED:20240528T132156Z
UID:2060-1727136000-1727308799@osw.rutgers.edu
SUMMARY:American Floating Offshore Wind Technical Summit
DESCRIPTION:Register today for AFloat 2024 and secure your spot among industry leaders to explore the synergies between fixed and floating wind technologies\, advance policy and investment strategies\, and showcase the latest advancements in floating offshore wind.\n\n\nEarly Bird Registration ends on July 1\, 2024.
URL:https://osw.rutgers.edu/event/afloat2024/
CATEGORIES:Public Events,Regional/National Events
END:VEVENT
BEGIN:VEVENT
DTSTART;VALUE=DATE:20240924
DTEND;VALUE=DATE:20240927
DTSTAMP:20260424T023814
CREATED:20240528T080052Z
LAST-MODIFIED:20240913T154832Z
UID:2075-1727136000-1727395199@osw.rutgers.edu
SUMMARY:Seminar - EAWE PhD Seminar Series
DESCRIPTION:The Wind Energy section of Uppsala University\, AptWind and the European Academy of Wind Energy (eawe) invite you to participate in the 20th EAWE PhD seminar. For this edition of the seminar\, we look forward to welcoming you in person in Visby (Sweden) from 24-26 September 2024. \nThe seminar is a great opportunity for PhD students to present their work to peers and to get involved with the wind energy community. The seminar is organized for PhDs by PhDs\, and both starting and concluding students are welcome. Thanks to the help of our organization and our sponsors\, there are no conference fees. EAWE also sponsors a travel fellowship for students from the US.
URL:https://osw.rutgers.edu/event/eawe-phd-2024/
CATEGORIES:International Events,Public Events
END:VEVENT
END:VCALENDAR