BEGIN:VCALENDAR
VERSION:2.0
PRODID:-//Offshore Wind Energy Collaborative - ECPv6.7.0//NONSGML v1.0//EN
CALSCALE:GREGORIAN
METHOD:PUBLISH
X-ORIGINAL-URL:https://osw.rutgers.edu
X-WR-CALDESC:Events for Offshore Wind Energy Collaborative
REFRESH-INTERVAL;VALUE=DURATION:PT1H
X-Robots-Tag:noindex
X-PUBLISHED-TTL:PT1H
BEGIN:VTIMEZONE
TZID:UTC
BEGIN:STANDARD
TZOFFSETFROM:+0000
TZOFFSETTO:+0000
TZNAME:UTC
DTSTART:20240101T000000
END:STANDARD
END:VTIMEZONE
BEGIN:VEVENT
DTSTART;TZID=UTC:20240603T183000
DTEND;TZID=UTC:20240603T193000
DTSTAMP:20260422T042632
CREATED:20240501T085252Z
LAST-MODIFIED:20240528T145522Z
UID:2085-1717439400-1717443000@osw.rutgers.edu
SUMMARY:Urban Humpback Whales: Coexisting With Our Charismatic Neighbors Webinar
DESCRIPTION:June 3 – Urban Humpback Whales: Coexisting With Our Charismatic Neighbors with Danielle Brown\, Rutgers University. \nDanielle Brown\, Rutgers University\, Graduate Program in Ecology\, Evolution\, and Natural Resources\, and Director of Marine Mammal Research for Gotham Whale\, will discuss what we have learned about humpback whale ecology over the last decade\, and how we can best coexist with whales in our region. \nThis webinar is part of the Rutgers NJAES Environmental Stewards Earth Day\, Every Day webinar series. \nRegister here. 
URL:https://osw.rutgers.edu/event/whales-daniellebrown2024/
CATEGORIES:Public Events,Regional/National Events,Rutgers University Events
END:VEVENT
BEGIN:VEVENT
DTSTART;TZID=UTC:20240605T160000
DTEND;TZID=UTC:20240605T190000
DTSTAMP:20260422T042632
CREATED:20240530T080035Z
LAST-MODIFIED:20240603T190510Z
UID:2095-1717603200-1717614000@osw.rutgers.edu
SUMMARY:Offshore Wind Open House - Central Jersey
DESCRIPTION:Wednesday\, June 5\, 2024 from 4:00 p.m. to 7:00 p.m.\nMercer County Community College\n1200 Old Trenton Rd\, Princeton Junction\, NJ 08550 \nMeet the developers of New Jersey’s clean energy future. Join us to learn more about the offshore wind projects being developed in and near New Jersey. \nDrop in any time to talk to about all the New Jersey happenings in offshore wind. Information tables\, resources\, and wind experts from multiple New Jersey state agencies will be available. \nRegistration is not required\, however\, we’d love to know if you are coming so that we can remind you and stay in touch! \nRegister here!
URL:https://osw.rutgers.edu/event/central-jersey-june5/
CATEGORIES:Public Events,Regional/National Events
END:VEVENT
BEGIN:VEVENT
DTSTART;TZID=UTC:20240612T120000
DTEND;TZID=UTC:20240612T130000
DTSTAMP:20260422T042632
CREATED:20240603T080034Z
LAST-MODIFIED:20240603T200828Z
UID:2127-1718193600-1718197200@osw.rutgers.edu
SUMMARY:Webinar: Is Climate Change to Blame?
DESCRIPTION:Understanding and Communicating the Link Between Climate Change and Extreme Weather \nNoon – 1pm ET\, Wednesday\, June 12th \nAfter an extreme weather event\, people often ask: is climate change to blame? Join the Yale Center for Environmental Communication for an insightful discussion on attribution science — a field focused on determining the influence of human-induced climate change on extreme weather events. \nThis discussion will be moderated by Dr. Jennifer Marlon\, Director of Data Science for the Yale Program on Climate Change Communication (YPCCC) and Senior Research Scientist at the Yale School of the Environment\, and will feature a panel of expert climate scientists and communicators\, including Dr. Friederike Otto\, Co-Lead of World Weather Attribution and Senior Lecturer in Climate Science at the Grantham Institute for Climate Change and the Environment\, Dr. Andrew Pershing\, VP for Science at Climate Central\, and Dr. Laura Thomas-Walters\, Research Specialist and Deputy Director of Experimental Research at YPCCC. Learn how scientists establish these connections and discover effective ways to communicate the impact of human-caused climate change on extreme weather events\, drawing on message testing research from YPCCC. \nRegister here for this webinar. \n 
URL:https://osw.rutgers.edu/event/webinar-june12/
CATEGORIES:Public Events,Regional/National Events
END:VEVENT
BEGIN:VEVENT
DTSTART;TZID=UTC:20240612T170000
DTEND;TZID=UTC:20240612T200000
DTSTAMP:20260422T042632
CREATED:20240603T080036Z
LAST-MODIFIED:20240603T190742Z
UID:2098-1718211600-1718222400@osw.rutgers.edu
SUMMARY:Offshore Wind Open House – North Jersey
DESCRIPTION:Wednesday\, June 12\, 2024 from 5:00 p.m. to 8:00 p.m.\nNew Jersey Institute of Technology\n355 Dr Martin Luther King Jr Blvd\, Newark\, NJ 07102 \nMeet the developers of New Jersey’s clean energy future. Join us to learn more about the offshore wind projects being developed in and near New Jersey. \nDrop in any time to talk to about all the New Jersey happenings in offshore wind. Information tables\, resources\, and wind experts from multiple New Jersey state agencies will be available. \nRegistration is not required\, however\, we’d love to know if you are coming so that we can remind you and stay in touch! \nRegister here!
URL:https://osw.rutgers.edu/event/north-jersey-june12/
CATEGORIES:Public Events,Regional/National Events
END:VEVENT
BEGIN:VEVENT
DTSTART;VALUE=DATE:20240617
DTEND;VALUE=DATE:20240619
DTSTAMP:20260422T042632
CREATED:20240603T080023Z
LAST-MODIFIED:20240603T192515Z
UID:2108-1718582400-1718755199@osw.rutgers.edu
SUMMARY:Offshore Wind USA 2024
DESCRIPTION:The US offshore wind industry is on the cusp of a new wave of growth. As established projects regain momentum\, and a fresh round of lease auctions and solicitations signal a renewed market upswing\, developers need to swiftly navigate through regulatory\, economic\, and supply chain challenges to streamline project planning\, accelerate development\, and ensure timely deployment. The clock is ticking – any delay is a risk to overall project profitability. \nThat’s why over 400 offshore wind changemakers will experience the ultimate convergence of industry expertise and collaborative interaction at Reuters Events: Offshore Wind USA 2024 in Boston. Tailored for individuals of all levels of seniority\, from project developers\, suppliers through to policymakers\, it offers unparalleled opportunities to learn\, interact\, engage\, and drive profitable projects through to completion. Don’t miss out on the premier business-focused event\, designed exclusively for those who want to take a leading role in the US offshore wind sector. \nClick here for more information and to register.
URL:https://osw.rutgers.edu/event/offshore-wind-usa-2024/
CATEGORIES:Public Events,Regional/National Events
END:VEVENT
BEGIN:VEVENT
DTSTART;TZID=UTC:20240620T130000
DTEND;TZID=UTC:20240620T140000
DTSTAMP:20260422T042632
CREATED:20240603T080042Z
LAST-MODIFIED:20240603T200924Z
UID:2111-1718888400-1718892000@osw.rutgers.edu
SUMMARY:Webinar: Lessons Learned and Best Practices for Coexistence with Other Ocean Users
DESCRIPTION:In this fourth installment of the Marine Renewable Canada’s Ask an Expert webinar series\, we delve into the critical topic of Lessons Learned and Best Practices for Coexistence with Other Ocean Users. Offshore wind is an exciting and rapidly growing industry. However\, for this industry to thrive\, it is essential to ensure harmonious coexistence with other ocean users and uses. \nJoin us for an insightful session featuring Dr. Alison Bates\, Associate Professor of Environmental Studies at Colby College in Maine\, who brings extensive expertise in environmental policy and marine spatial planning. Dr. Bates will highlight some of the lessons learned from her work in offshore wind and co-existence\, providing valuable knowledge and perspective that can inform the responsible development of offshore wind. \n\n\nDate: June 20\, 2024\nTime: 1:00 – 2:00 pm ET\nLocation: Zoom \nRegister here!
URL:https://osw.rutgers.edu/event/askexpert-june20/
CATEGORIES:International Events,Public Events,Regional/National Events
END:VEVENT
BEGIN:VEVENT
DTSTART;TZID=UTC:20240625T150000
DTEND;TZID=UTC:20240625T160000
DTSTAMP:20260422T042632
CREATED:20240617T080004Z
LAST-MODIFIED:20240617T185611Z
UID:2132-1719327600-1719331200@osw.rutgers.edu
SUMMARY:Webinar: Pathways to Commercial Liftoff - Offshore Wind
DESCRIPTION:Join distinguished leaders from the U.S. Department of Energy (DOE) for a webinar on June 25th from 3:00 – 4:00 pm ET. During this session we will do a deep dive into the Offshore Wind Pathways to Commercial Liftoff report. \nThe Pathways to Commercial Liftoff Reports are the product of comprehensive stakeholder engagement\, combining system-level modeling with project-level financial analysis. These reports offer valuable insights\, identifying key themes and interactions among various grid technologies. While they do not represent official DOE policy or strategic plans\, they serve as crucial resources for decision-makers in the energy sector\, investors\, and a broader range of stakeholders. \nNote: The Department will not address questions about the Liftoff Reports\, active or upcoming funding opportunities during the webinar. For inquiries related to funding opportunity announcements\, please direct them to the designated email address provided with the opportunity. \nClick here for more information and to register.
URL:https://osw.rutgers.edu/event/webinar-pathways/
CATEGORIES:Public Events,Regional/National Events
END:VEVENT
BEGIN:VEVENT
DTSTART;TZID=UTC:20240626T160000
DTEND;TZID=UTC:20240626T190000
DTSTAMP:20260422T042632
CREATED:20240603T080007Z
LAST-MODIFIED:20240603T191019Z
UID:2100-1719417600-1719428400@osw.rutgers.edu
SUMMARY:Offshore Wind Open House – South Jersey
DESCRIPTION:Wednesday\, June 26\, 2024 from 4:00 p.m. to 7:00 p.m.\n\n\n\nAtlantic Cape Community College\n1535 Bacharach Blvd\, Atlantic City\, NJ 08401\n\n  \nMeet the developers of New Jersey’s clean energy future. Join us to learn more about the offshore wind projects being developed in and near New Jersey. \nDrop in any time to talk to about all the New Jersey happenings in offshore wind. Information tables\, resources\, and wind experts from multiple New Jersey state agencies will be available. \nRegistration is not required\, however\, we’d love to know if you are coming so that we can remind you and stay in touch! \n\n\nRegister here!
URL:https://osw.rutgers.edu/event/south-jersey-june26/
CATEGORIES:Public Events,Regional/National Events
END:VEVENT
BEGIN:VEVENT
DTSTART;TZID=UTC:20240627T100000
DTEND;TZID=UTC:20240627T160000
DTSTAMP:20260422T042632
CREATED:20240603T080010Z
LAST-MODIFIED:20240603T192047Z
UID:2103-1719482400-1719504000@osw.rutgers.edu
SUMMARY:Offshore Wind Ready: Manufacturing | New Jersey and New York Companies
DESCRIPTION:Offshore Wind Ready: Manufacturing is a free one-day educational program designed for manufacturing businesses who want to learn more about specific business opportunities in the growing U.S. offshore wind industry. Learn about project development\, a project’s supply chain component parts\, and how to identify where your business fits in. Offshore Wind Ready: Manufacturing helps you determine if this growing industry is a good fit for your business. \nThis is a virtual event occurring at 10am to 4pm on June 27\, 2024. \nRegistration is free for New Jersey and New York companies and organizations. \nRegister here!
URL:https://osw.rutgers.edu/event/oswready-june27/
CATEGORIES:Public Events,Regional/National Events
END:VEVENT
END:VCALENDAR