BEGIN:VCALENDAR
VERSION:2.0
PRODID:-//Offshore Wind Energy Collaborative - ECPv6.7.0//NONSGML v1.0//EN
CALSCALE:GREGORIAN
METHOD:PUBLISH
X-WR-CALNAME:Offshore Wind Energy Collaborative
X-ORIGINAL-URL:https://osw.rutgers.edu
X-WR-CALDESC:Events for Offshore Wind Energy Collaborative
REFRESH-INTERVAL;VALUE=DURATION:PT1H
X-Robots-Tag:noindex
X-PUBLISHED-TTL:PT1H
BEGIN:VTIMEZONE
TZID:UTC
BEGIN:STANDARD
TZOFFSETFROM:+0000
TZOFFSETTO:+0000
TZNAME:UTC
DTSTART:20240101T000000
END:STANDARD
END:VTIMEZONE
BEGIN:VEVENT
DTSTART;VALUE=DATE:20240924
DTEND;VALUE=DATE:20240927
DTSTAMP:20260423T062238
CREATED:20240528T080052Z
LAST-MODIFIED:20240913T154832Z
UID:2075-1727136000-1727395199@osw.rutgers.edu
SUMMARY:Seminar - EAWE PhD Seminar Series
DESCRIPTION:The Wind Energy section of Uppsala University\, AptWind and the European Academy of Wind Energy (eawe) invite you to participate in the 20th EAWE PhD seminar. For this edition of the seminar\, we look forward to welcoming you in person in Visby (Sweden) from 24-26 September 2024. \nThe seminar is a great opportunity for PhD students to present their work to peers and to get involved with the wind energy community. The seminar is organized for PhDs by PhDs\, and both starting and concluding students are welcome. Thanks to the help of our organization and our sponsors\, there are no conference fees. EAWE also sponsors a travel fellowship for students from the US.
URL:https://osw.rutgers.edu/event/eawe-phd-2024/
CATEGORIES:International Events,Public Events
END:VEVENT
END:VCALENDAR