BEGIN:VCALENDAR
VERSION:2.0
PRODID:-//Offshore Wind Energy Collaborative - ECPv6.7.0//NONSGML v1.0//EN
CALSCALE:GREGORIAN
METHOD:PUBLISH
X-WR-CALNAME:Offshore Wind Energy Collaborative
X-ORIGINAL-URL:https://osw.rutgers.edu
X-WR-CALDESC:Events for Offshore Wind Energy Collaborative
REFRESH-INTERVAL;VALUE=DURATION:PT1H
X-Robots-Tag:noindex
X-PUBLISHED-TTL:PT1H
BEGIN:VTIMEZONE
TZID:UTC
BEGIN:STANDARD
TZOFFSETFROM:+0000
TZOFFSETTO:+0000
TZNAME:UTC
DTSTART:20240101T000000
END:STANDARD
END:VTIMEZONE
BEGIN:VEVENT
DTSTART;VALUE=DATE:20240529
DTEND;VALUE=DATE:20240601
DTSTAMP:20260425T220447
CREATED:20240501T080020Z
LAST-MODIFIED:20240528T132833Z
UID:2066-1716940800-1717199999@osw.rutgers.edu
SUMMARY:TORQUE 2024
DESCRIPTION:The City and the University of Florence are proud to welcome the wind energy community for TORQUE 2024\, an official event by the European Academy of Wind Energy (EAWE).
URL:https://osw.rutgers.edu/event/torque-2024/
CATEGORIES:International Events,Public Events
END:VEVENT
BEGIN:VEVENT
DTSTART;TZID=UTC:20240529T093000
DTEND;TZID=UTC:20240529T113000
DTSTAMP:20260425T220447
CREATED:20240501T080046Z
LAST-MODIFIED:20240528T150229Z
UID:2087-1716975000-1716982200@osw.rutgers.edu
SUMMARY:NJBPU Energy Master Plan Public Hearing
DESCRIPTION:Energy Master Plan – PUBLIC NOTICE \nThis hearing will describe the goals under Strategies 6 and 7 of the 2019 EMP\, the progress on those goals\, and potential current actions regarding the Update: \n6. Supporting Community Energy Planning and Action in Underserved Communities \n7. Expanding the Clean Energy Innovation Economy \nThere will be a panel of NJBPU Staff and representatives from other State agencies to provide insights into these specific subject matters. This hearing will also serve as a brief recap of Hearings 1 and 2. Stakeholders and members of the general public will be invited to comment and ask questions on strategy progress and current actions\, either orally at the time of the public hearing or in writing. \nStaff of the New Jersey Board of Public Utilities (“NJBPU”) will be holding a series of virtual public hearings on the 2024 New Jersey Energy Master (“EMP”) Plan. The 2024 EMP will serve as a whole-of-government progress report on the goals and strategies in the 2019 EMP\, outline the changing landscape of State and federal support for climate action\, and determine the basis for the development of actionable next steps to reduce greenhouse gas emissions and maximize clean energy uptake economy-wide. The 2024 EMP will be a public-facing document that incorporates progress information acquired through inter-agency collaboration and stakeholder feedback to build upon the 2019 EMP and help New Jersey reach its goal of 100% clean energy by 2035\, amongst other key clean energy and climate goals and benchmarks. Comments should be submitted under Docket No. QO24020126. \nZoom Virtual Webinar Registration
URL:https://osw.rutgers.edu/event/bpu-public-hearing/
CATEGORIES:Public Events,Regional/National Events
END:VEVENT
END:VCALENDAR