BEGIN:VCALENDAR
VERSION:2.0
PRODID:-//Offshore Wind Energy Collaborative - ECPv6.7.0//NONSGML v1.0//EN
CALSCALE:GREGORIAN
METHOD:PUBLISH
X-ORIGINAL-URL:https://osw.rutgers.edu
X-WR-CALDESC:Events for Offshore Wind Energy Collaborative
REFRESH-INTERVAL;VALUE=DURATION:PT1H
X-Robots-Tag:noindex
X-PUBLISHED-TTL:PT1H
BEGIN:VTIMEZONE
TZID:UTC
BEGIN:STANDARD
TZOFFSETFROM:+0000
TZOFFSETTO:+0000
TZNAME:UTC
DTSTART:20230101T000000
END:STANDARD
END:VTIMEZONE
BEGIN:VEVENT
DTSTART;VALUE=DATE:20230515
DTEND;VALUE=DATE:20230519
DTSTAMP:20260422T112220
CREATED:20230331T080032Z
LAST-MODIFIED:20230331T162458Z
UID:1195-1684108800-1684454399@osw.rutgers.edu
SUMMARY:Collegiate Wind Competition 2023
DESCRIPTION:The U.S. Department of Energy Collegiate Wind Competition (CWC) helps college students prepare for jobs in the wind and renewable energy workforce through real-world experiences with wind energy technology\, project development\, finance\, communications\, and outreach. \nCompetition: May 15–18\, 2023\, Boulder\, CO \nThe 2023 Collegiate Wind Competition includes multidisciplinary university teams from across the United States. The teams will present the culmination of their work in wind energy over the past year. Find more information on the event website.
URL:https://osw.rutgers.edu/event/collegiate-wind-competition-2023/
CATEGORIES:Public Events,Regional/National Events
END:VEVENT
END:VCALENDAR