BEGIN:VCALENDAR
VERSION:2.0
PRODID:-//Offshore Wind Energy Collaborative - ECPv6.7.0//NONSGML v1.0//EN
CALSCALE:GREGORIAN
METHOD:PUBLISH
X-ORIGINAL-URL:https://osw.rutgers.edu
X-WR-CALDESC:Events for Offshore Wind Energy Collaborative
REFRESH-INTERVAL;VALUE=DURATION:PT1H
X-Robots-Tag:noindex
X-PUBLISHED-TTL:PT1H
BEGIN:VTIMEZONE
TZID:UTC
BEGIN:STANDARD
TZOFFSETFROM:+0000
TZOFFSETTO:+0000
TZNAME:UTC
DTSTART:20230101T000000
END:STANDARD
END:VTIMEZONE
BEGIN:VEVENT
DTSTART;TZID=UTC:20230414T083000
DTEND;TZID=UTC:20230414T153000
DTSTAMP:20260421T220645
CREATED:20230331T080022Z
LAST-MODIFIED:20230331T173624Z
UID:1215-1681461000-1681486200@osw.rutgers.edu
SUMMARY:New Jersey Wind Institute Research Symposium
DESCRIPTION:The first annual New Jersey Wind Institute Research Symposium will be held on Friday\, April 14\, 2023\, at the Conference Center at Mercer Community College. \nThis year’s Keynote Speaker is Lyndie Hice-Dunton\, PhD\, Executive Director of the National Offshore Wind Research & Development Consortium (NOWRDC). \nCome learn about offshore wind research being conducted by New Jersey researchers and students\, hear from industry and government representatives on how to get involved in offshore wind research activities\, and celebrate the Wind Institute Fellows who have completed a year of offshore wind research! \nWind Institute Research Symposium Agenda 2023 \nRSVP here to secure your spot! \nHighlights include: \n\nOffshore wind research presentations by Wind Institute Fellows and researchers from Rutgers University\, New Jersey Institute of Technology\, Rowan University\, and Montclair State University\nIndustry panels on offshore wind research and partnership opportunities\nNew Jersey state updates on offshore wind research including the Research and Monitoring Initiative\nNetworking with offshore wind industry\, government representatives and other researchers\n\nDetails \nWhat: NJ Wind Institute Research Symposium \nWhen: Friday\, April 14\, 2023\, from 8:30 a.m. to 3:30 p.m. \nWhere: Conference Center at Mercer Community College\, 1200 Old Trenton Road\, West Windsor\, NJ 08550 \nRSVP: Here
URL:https://osw.rutgers.edu/event/nj-wind-institute-research-symposium-2023/
CATEGORIES:Public Events,Regional/National Events
ATTACH;FMTTYPE=image/png:https://sites.rutgers.edu/osw/wp-content/uploads/sites/930/2023/03/NJ-Wind-Institute-Research-Symposium-2023.png
END:VEVENT
END:VCALENDAR